BEGIN:VCALENDAR
VERSION:2.0
PRODID:icalendar-ruby
CALSCALE:GREGORIAN
METHOD:PUBLISH
BEGIN:VEVENT
DTSTAMP:20260420T073321Z
UID:7-1154152@truchurchtoledo.com
DTSTART:20260813T223000Z
DTEND:20260813T233000Z
CLASS:PUBLIC
CREATED:20260420T000522
DESCRIPTION:Thursday Worship and the Word
LAST-MODIFIED:20260420T000522
LOCATION:4117 South Ave Building A\, Toledo Ohio 43615
SUMMARY:Thursday Worship and the Word
URL;VALUE=URI:https://www.truchurchtoledo.com/events/thursday-worship-and-t
 he-word/2026-08-13
END:VEVENT
END:VCALENDAR
