BEGIN:VCALENDAR
VERSION:2.0
PRODID:icalendar-ruby
CALSCALE:GREGORIAN
METHOD:PUBLISH
BEGIN:VEVENT
DTSTAMP:20260420T232212Z
UID:7-1154628@truchurchtoledo.com
DTSTART:20261008T223000Z
DTEND:20261008T233000Z
CLASS:PUBLIC
CREATED:20260420T183937
DESCRIPTION:Thursday Worship and the Word
LAST-MODIFIED:20260420T183937
LOCATION:4117 South Ave Building A\, Toledo Ohio 43615
SUMMARY:Thursday Worship and the Word
URL;VALUE=URI:https://www.truchurchtoledo.com/events/thursday-worship-and-t
 he-word/2026-10-08
END:VEVENT
END:VCALENDAR
