BEGIN:VCALENDAR
VERSION:2.0
PRODID:icalendar-ruby
CALSCALE:GREGORIAN
METHOD:PUBLISH
BEGIN:VEVENT
DTSTAMP:20260423T090429Z
UID:7-1155643@truchurchtoledo.com
DTSTART:20261015T223000Z
DTEND:20261015T233000Z
CLASS:PUBLIC
CREATED:20260422T230838
DESCRIPTION:Thursday Worship and the Word
LAST-MODIFIED:20260422T230838
LOCATION:4117 South Ave Building A\, Toledo Ohio 43615
SUMMARY:Thursday Worship and the Word
URL;VALUE=URI:https://www.truchurchtoledo.com/events/thursday-worship-and-t
 he-word/2026-10-15
END:VEVENT
END:VCALENDAR
